
BEGIN:VCALENDAR
VERSION:2.0
PRODID:-//wp-events-plugin.com//7.2.3.1//EN
TZID:Europe/Stockholm
X-WR-TIMEZONE:Europe/Stockholm
BEGIN:VEVENT
UID:61@tarna.fhsk.se
DTSTART;TZID=Europe/Stockholm:20240201T180000
DTEND;TZID=Europe/Stockholm:20240411T210000
DTSTAMP:20240130T133443Z
URL:https://tarna.fhsk.se/kortakurser/tovningens-grunder-och-mojligheter-t
 orsdagar-1800-2100/
SUMMARY:Tovningens grunder och möjligheter torsdagar 18:00 - 21:00
DESCRIPTION:
LOCATION:Tärna Folkhögskola\, Folkhögskolevägen 12\, Sala\, 73393\, Sve
 rige
X-APPLE-STRUCTURED-LOCATION;VALUE=URI;X-ADDRESS=Folkhögskolevägen 12\, Sa
 la\, 73393\, Sverige;X-APPLE-RADIUS=100;X-TITLE=Tärna Folkhögskola:geo:0
 ,0
END:VEVENT
BEGIN:VTIMEZONE
TZID:Europe/Stockholm
X-LIC-LOCATION:Europe/Stockholm
BEGIN:STANDARD
DTSTART:20231029T020000
TZOFFSETFROM:+0200
TZOFFSETTO:+0100
TZNAME:CET
END:STANDARD
BEGIN:DAYLIGHT
DTSTART:20240331T030000
TZOFFSETFROM:+0100
TZOFFSETTO:+0200
TZNAME:CEST
END:DAYLIGHT
END:VTIMEZONE
END:VCALENDAR