
BEGIN:VCALENDAR
VERSION:2.0
PRODID:-//wp-events-plugin.com//7.2.3.1//EN
TZID:Europe/Stockholm
X-WR-TIMEZONE:Europe/Stockholm
BEGIN:VEVENT
UID:47@tarna.fhsk.se
DTSTART;TZID=Europe/Stockholm:20231021T090000
DTEND;TZID=Europe/Stockholm:20231021T150000
DTSTAMP:20231019T063901Z
URL:https://tarna.fhsk.se/kortakurser/ma-bra-med-flode-och-balans-i-kropp-
 och-sjal-oktober/
SUMMARY:Må bra med flöde och balans i kropp och själ - oktober
DESCRIPTION:
LOCATION:Tärna Folkhögskola\, Folkhögskolevägen 12\, Sala\, 73393\, Sve
 rige
X-APPLE-STRUCTURED-LOCATION;VALUE=URI;X-ADDRESS=Folkhögskolevägen 12\, Sa
 la\, 73393\, Sverige;X-APPLE-RADIUS=100;X-TITLE=Tärna Folkhögskola:geo:0
 ,0
END:VEVENT
BEGIN:VTIMEZONE
TZID:Europe/Stockholm
X-LIC-LOCATION:Europe/Stockholm
BEGIN:DAYLIGHT
DTSTART:20230326T030000
TZOFFSETFROM:+0100
TZOFFSETTO:+0200
TZNAME:CEST
END:DAYLIGHT
END:VTIMEZONE
END:VCALENDAR